BEGIN:VCALENDAR
VERSION:2.0
PRODID:-//wp-events-plugin.com//7.2.3.1//EN
BEGIN:VEVENT
UID:1918@mnbeer.com
DTSTART:20160813T170000Z
DTEND:20160814T043000Z
DTSTAMP:20160722T171516Z
URL:https://www.mnbeer.com/events/bikes-brews/
SUMMARY:Bikes &amp\; Brews
DESCRIPTION:To mark the opening of the Broadway Bike Lane in Minneapolis\, 
 NorthGate Brewing will be offering happy hour pricing to bikers who stop b
 y during the day\, along with door prizes\, and the opportunity to vote on
  which of our beers we should include in cans next year. \n\nMore informat
 ion at: https://www.facebook.com/events/143149469448211/	
CATEGORIES:Breweries
LOCATION:NorthGate Brewing\, 783 Harding\, Minneapolis\, MN\, United States
GEO:44.9983406;-93.22114959999999
X-APPLE-STRUCTURED-LOCATION;VALUE=URI;X-ADDRESS=783 Harding\, Minneapolis\,
  MN\, United States;X-APPLE-RADIUS=100;X-TITLE=NorthGate Brewing:geo:44.99
 83406,-93.22114959999999
END:VEVENT
END:VCALENDAR