BEGIN:VCALENDAR
VERSION:2.0
PRODID:-//wp-events-plugin.com//7.2.3.1//EN
BEGIN:VEVENT
UID:3156@mnbeer.com
DTSTART:20180513T193000Z
DTEND:20180513T203000Z
DTSTAMP:20180502T135953Z
URL:https://www.mnbeer.com/events/blue-ribbon-beers-tips-and-tricks-to-suc
 ceed-in-competitions/
SUMMARY:Blue Ribbon Beers - Tips and Tricks to Succeed in Competitions
DESCRIPTION:Ready to make your own award-winning beer? Well\, it all comes 
 down to brewing something you love to brew and drink. And\, with our help\
 , you’re sure to craft a blue-ribbon beer. Our knowledgeable brewmasters
  will share crucial tips and tricks on how to succeed your homebrew compet
 itions: from selecting the perfect style and designing your recipe to ente
 ring your beer\, you’ll learn everything you need to know about how to s
 howcase your fantastic brew and make it stand out.\n\nInfo: http://nbrew.m
 e/bluer893bc
CATEGORIES:Homebrew
LOCATION:Midwest Supplies\, 5825 EXCELSIOR BLVD. \, ST LOUIS PARK\, MN\, 55
 414\, United States
GEO:44.9287528;-93.35441400000002
X-APPLE-STRUCTURED-LOCATION;VALUE=URI;X-ADDRESS=5825 EXCELSIOR BLVD. \, ST 
 LOUIS PARK\, MN\, 55414\, United States;X-APPLE-RADIUS=100;X-TITLE=Midwest
  Supplies:geo:44.9287528,-93.35441400000002
END:VEVENT
END:VCALENDAR