BEGIN:VCALENDAR
VERSION:2.0
PRODID:-//wp-events-plugin.com//7.2.3.1//EN
BEGIN:VEVENT
UID:1165@mnbeer.com
DTSTART:20150628T210000Z
DTEND:20150629T000000Z
DTSTAMP:20150326T064525Z
URL:https://www.mnbeer.com/events/blues-brews-3/
SUMMARY:Blues &amp\; Brews
DESCRIPTION:Don’t miss one of Minnesota’s hippest and hoppiest events. 
 This local craft beer tasting event includes live music and a ton of tasty
  appetizers paired with the best brews in the Twin Cities. Participate in 
 a silent auction\, enjoy hand-rolled cigars\, and learn about each beer fr
 om the breweries themselves. Proceeds benefit local mental health services
  and the state suicide prevention hotline.
CATEGORIES:Charity
LOCATION:Nicollet Island Pavilion\, 40 Power Street\, Minneapolis\, MN\, 55
 401\, United States
GEO:44.9846374;-93.25999009999998
X-APPLE-STRUCTURED-LOCATION;VALUE=URI;X-ADDRESS=40 Power Street\, Minneapol
 is\, MN\, 55401\, United States;X-APPLE-RADIUS=100;X-TITLE=Nicollet Island
  Pavilion:geo:44.9846374,-93.25999009999998
END:VEVENT
END:VCALENDAR