BEGIN:VCALENDAR
VERSION:2.0
PRODID:-//wp-events-plugin.com//7.2.3.1//EN
BEGIN:VEVENT
UID:709@mnbeer.com
DTSTART:20140619T230000Z
DTEND:20140620T030000Z
DTSTAMP:20140522T164439Z
URL:https://www.mnbeer.com/events/blues-brews/
SUMMARY:Blues &amp\; Brews
DESCRIPTION:Dubbed as “one of the hippest and hoppiest celebrations in Mi
 nnesota\,” Blues &amp\; Brews will host seven of the area’s best brewe
 ries:  Big Wood\, Excelsior\, Fulton\, Lift Bridge\, Summit Brewing\, Rock
  Bottom\, and Rush River. Beer will be paired with delicious appetizers pr
 epared by local chefs. Favorite local bands Cadillac Kolstad and the Harri
 son Street Band will provide music throughout the evening. \n\nCraft beer 
 enthusiasts will be excited to learn that nationally ranked beer judge and
  expert Gera Exire LaTour will lead interactive beer sessions throughout t
 he night.  Guests also can check out the Marco V cigar station\; test thei
 r skills at a hammerschlagen activity\; participate in a silent auction\; 
 and fill their event passports with stamps to qualify for great raffle pri
 zes.\n\nThis event\, hosted by Canvas Health\, will raise money for youth 
 in crisis in the Twin Cities area.\n
ATTACH;FMTTYPE=image/jpeg:https://www.mnbeer.com/wp-content/uploads/BluesB
 rews.jpg
CATEGORIES:Pairing
LOCATION:Van Dusen Mansion\, 1900 Lasalle Ave. \, Minneapolis\, MN\, 55403\
 , United States
GEO:44.963918;-93.27977699999997
X-APPLE-STRUCTURED-LOCATION;VALUE=URI;X-ADDRESS=1900 Lasalle Ave. \, Minnea
 polis\, MN\, 55403\, United States;X-APPLE-RADIUS=100;X-TITLE=Van Dusen Ma
 nsion:geo:44.963918,-93.27977699999997
END:VEVENT
END:VCALENDAR