BEGIN:VCALENDAR
VERSION:2.0
PRODID:-//wp-events-plugin.com//7.2.3.1//EN
BEGIN:VEVENT
UID:1007@mnbeer.com
DTSTART:20150214T160000Z
DTEND:20150214T213000Z
DTSTAMP:20150107T213346Z
URL:https://www.mnbeer.com/events/bock-fest/
SUMMARY:Bock Fest
DESCRIPTION:http://schellsbrewery.com/events/02-bockfest/\n\nWhile the beer
  doesn’t always speed the arrival of Spring\, it will at least keep you 
 warm. Come beckon warmer weather with a mug full of Bock\, dancing and foo
 d. Seven bocks of winter are already in hiding in Flandrau State Park\, wa
 iting for brave festers to venture out and capture them. Armed with comple
 tely useless clues and Bock beer\, hunters will comb the park in search of
  these elusive bocks. Our two human St. Bernards\, with kegs of Bock beer 
 strapped to their backs\, are ready to be dispatched at moments at the fir
 st signs of thirst. Oft-repeated tales depict their heroic exploits\, find
 ing festers roaming the woods at wits end\, searching for another glass of
  Schell’s Bock beer. Once they receive nourishment\, they find the stren
 gth to go forth and continue their search for the stealthy bocks. Legend h
 as it if all seven bocks of winter are captured and brought back to the br
 ewery\, winter will release its icy grip on Minnesota and bring an early s
 pring. (This has never been scientifically proven and is widely disputed a
 mong scholars to this day)\n\nFor those not hearty enough to leave the Sch
 ell’s Brewery fest grounds\, feel no shame. Schell’s Beer\, brats\, li
 ve music and a warm fire await you. Grab yourself a Schell’s Bock and br
 ag to your friends of how you braved the Minnesota forest “last year” 
 and found all seven bocks yourself. Your friends will be so impressed with
  your exploits\, you probably won’t have to buy another beer the entire 
 time you’re here. Head over to the fire and have your beer “poked” b
 y our fire tenders\, giving your Bock beer some nice caramel notes.\n\nAnd
  when the final bock has been wrangled\, the last Ring of Fire sung\, the 
 last keg tapped and last mug hoisted\, the Bock Fest Boys will send fester
 s off with a smile to “You Are My Sunshine.”\n\nBut the party doesn’
 t stop there. Festers flock to downtown New Ulm for a fun-filled night of 
 friendship. And when the night has run its course and its time to call it 
 quits\, we ask that you call for a ride home!
CATEGORIES:Beer Festival
LOCATION:August Schell Brewing Co. \, \, 
GEO:0.000000;0.000000
X-APPLE-STRUCTURED-LOCATION;VALUE=URI;X-ADDRESS=\, ;X-APPLE-RADIUS=100;X-TI
 TLE=August Schell Brewing Co. :geo:0.000000,0.000000
END:VEVENT
END:VCALENDAR