BEGIN:VCALENDAR
VERSION:2.0
PRODID:-//wp-events-plugin.com//7.2.3.1//EN
BEGIN:VEVENT
UID:1861@mnbeer.com
DTSTART:20160716T170000Z
DTEND:20160717T020000Z
DTSTAMP:20160623T152546Z
URL:https://www.mnbeer.com/events/boom-days-festival/
SUMMARY:Boom Days Festival
DESCRIPTION:BOOM ISLAND TO HOST 3RD ANNUAL BOOM DAYS BLOWOUT JULY 15-17\nA 
 Summer Celebration of Cuvée de Boom\, Music\, Food and the Home Brewer\nS
 chedule of events for Saturday\, July 16th:\n11:00am:  MN Brewery Running 
 Series begins and ends at Boom Island Brewing Company. For information and
  to sign up\, go to http://www.breweryrunningseries.com/\n1:00pm:   Boom R
 oom opens/ Nate Dogs and Betty Danger’s Food Truck on site.\n\nFull slat
 e of bands will perform on outdoor stage\, including:\n            1:30pm:
   The Above Average Tuba Quartet\n            3:00pm:  Crossing Guards\, f
 eaturing Martin Devaney\n            5:00pm: The Bill Patten Trio\n       
      6:30pm:  Phantom Tails\n            8:00pm:  Eleganza!\nIn addition t
 o the availability of the Cuvée de Boom\, on Saturday from 1:00pm to 4:00
 pm\, there will be a special beer release every hour.  The following beers
  will made available for a one-hour window only\, while the very limited s
 upply lasts:\n    1:00pm:  Last year’s Home Brew Competition winner\, JD
  Park\, will be pouring his prize winning Saison.\n    2:00pm:  Triple Bre
 tt\, a 7% ABV American Wild Ale\, fermented with 3 different strains of Br
 ettanomyces yeast. \n    3:00pm:  Oude Funk:  A rare\, funky and complex a
 le consisting of a blend of 3-year\, 2-year and 1-year old vintages of bar
 rel aged and spontaneously fermented beer. \n    4:00pm: Oude Funk with Ch
 erries:  An extremely limited supply of the wildly popular marriage of the
  Oude Funk and locally grown cherries.\n\n\n
ATTACH;FMTTYPE=image/jpeg:https://www.mnbeer.com/wp-content/uploads/Boom-D
 ays-FB-event-640x537.jpg
CATEGORIES:Beer Festival
LOCATION:Boom Island Brewing\, 2014 Washington Ave N\, Minneapolis\, MN\, 5
 5411\, North Minneapolis\, United States
GEO:44.999873;-93.28133400000002
X-APPLE-STRUCTURED-LOCATION;VALUE=URI;X-ADDRESS=2014 Washington Ave N\, Min
 neapolis\, MN\, 55411\, North Minneapolis\, United States;X-APPLE-RADIUS=1
 00;X-TITLE=Boom Island Brewing:geo:44.999873,-93.28133400000002
END:VEVENT
END:VCALENDAR