BEGIN:VCALENDAR
VERSION:2.0
PRODID:-//wp-events-plugin.com//7.2.3.1//EN
BEGIN:VEVENT
UID:1862@mnbeer.com
DTSTART:20160717T170000Z
DTEND:20160717T230000Z
DTSTAMP:20160623T152849Z
URL:https://www.mnbeer.com/events/boom-days-homebrewer-day/
SUMMARY:Boom Days-Homebrewer Day
DESCRIPTION:BOOM ISLAND TO HOST 3RD ANNUAL BOOM DAYS BLOWOUT JULY 15-17\nA 
 Summer Celebration of Cuvée de Boom\, Music\, Food and the Home Brewer\n\
 nSchedule of events for Sunday\, July 17th:\nNoon: Taproom open. Louisiana
  Purchase Cajun Food.\n1:00pm: Jason McCann from Cargill will discuss the 
 varieties of malts available to the home brewer.\n1:45pm: Taylor Quill fro
 m Quill Bros. Hop Farm: All Things Hop Related.\n2:30pm: Cody Myers-Miller
  from BSG will speak on the roll spices and sugars play in Belgian brewing
 \n3:15pm: Touring the Great Breweries of Belgium with Brewer Kevin Welch o
 f Boom Island as Your Guide – Sponsored by Book It Travel.\n3:45pm: Defi
 ning the Styles of Belgian Brewing - Michael Agnew of A Perfect Pint will 
 give us a run down the many diverse styles of beer in the Belgian traditio
 n of brewing.\n4:30pm: Jeff Merriman of Northern Brewer will discuss the r
 ole of Belgian yeast and fermentation in the brewing process. I still need
  to confirm.\n5:00pm: Boom Days Home Brew Competition Awards announcement.
  Co-Sponsor Northern Brewer\n
ATTACH;FMTTYPE=image/jpeg:https://www.mnbeer.com/wp-content/uploads/Boom-D
 ays-FB-event-640x537-1.jpg
CATEGORIES:Homebrew
LOCATION:Boom Island Brewing\, 2014 Washington Ave N\, Minneapolis\, MN\, 5
 5411\, North Minneapolis\, United States
GEO:44.999873;-93.28133400000002
X-APPLE-STRUCTURED-LOCATION;VALUE=URI;X-ADDRESS=2014 Washington Ave N\, Min
 neapolis\, MN\, 55411\, North Minneapolis\, United States;X-APPLE-RADIUS=1
 00;X-TITLE=Boom Island Brewing:geo:44.999873,-93.28133400000002
END:VEVENT
END:VCALENDAR