BEGIN:VCALENDAR
VERSION:2.0
PRODID:-//wp-events-plugin.com//7.2.3.1//EN
BEGIN:VEVENT
UID:3247@mnbeer.com
DTSTART;VALUE=DATE:20180713
DTEND;VALUE=DATE:20180716
DTSTAMP:20180705T181231Z
URL:https://www.mnbeer.com/events/boom-days-three-days-of-beer-bands-bicyc
 les-2/
SUMMARY:Boom Days! Three Days of Beer\, Bands &amp\; Bicycles
DESCRIPTION:Details\n\nWe will be pulling out all the stops\, and more than
  a few corks. It all begins on Friday evening with the much-anticipated re
 lease of Cuvée de Boom and Petite Rosé. This is going to be a PARTY!\n\n
 Event Schedule:\nhttp://boomislandbrewing.com/events/2018/boom-days-a-summ
 er-celebration\n\nBike Vendors:\nVelofix Mobile Bike Repair Van\nOur Stree
 ts Minneapolis\nFull Cycle Bike Shop\nNice Ride Minnesota\nTangletown Bike
 s\nSturdy Bags\nPedego electric bike tours\n\nOther Vendors:\nYogaFit Nort
 heast\nHeather Hanson Weddings\nNorthern Brewers\n\nBands:\nThe Skruffians
  \nMiss Myra and the Moonshiners\nBill Patten Trio\nEleganza!\n\nFood Truc
 ks:\nDon Oishi Kitchen Food Truck \nEl Burrito Mercado Food Truck
CATEGORIES:Beer Festival
LOCATION:Boom Island Brewing\, 2014 Washington Ave N\, Minneapolis\, MN\, 5
 5411\, North Minneapolis\, United States
GEO:44.999873;-93.28133400000002
X-APPLE-STRUCTURED-LOCATION;VALUE=URI;X-ADDRESS=2014 Washington Ave N\, Min
 neapolis\, MN\, 55411\, North Minneapolis\, United States;X-APPLE-RADIUS=1
 00;X-TITLE=Boom Island Brewing:geo:44.999873,-93.28133400000002
END:VEVENT
END:VCALENDAR