BEGIN:VCALENDAR
VERSION:2.0
PRODID:-//wp-events-plugin.com//7.2.3.1//EN
BEGIN:VEVENT
UID:1063@mnbeer.com
DTSTART:20150214T180000Z
DTEND:20150215T020000Z
DTSTAMP:20150129T175743Z
URL:https://www.mnbeer.com/events/boom-island-brewing-noire-valentine-tapr
 oom-party/
SUMMARY:Boom Island Brewing Noire Valentine Taproom Party
DESCRIPTION:Valentine’s Day is a time to celebrate your love\, or as the 
 case may be\, truly cement your singleness.  Whichever camp you reside\, B
 oom Island Brewing Company’s Noire Valentine event on Saturday\, Februar
 y 14th from 1-9pm will surely set the mood.  A special cask of oak aged Br
 imstone fermented with Raw Buckwheat Honey will be served\, along with the
  taproom-only Noire Black IPA for those who wish to adhere to the theme.\n
 \nSchedule of events:\n\n1pm:	Boom Room open\n3pm:	Heart-Stacking Contest\
 n5pm:	Candy Heart Message Contest\n7pm:	For those without romantic dinner 
 reservations\, relationship-themed haiku poems will be delivered in a rovi
 ng manner directly to patron’s tables.\n7:30–Close: Prize Pack Drawing
 s for Boom Island beer and swag.\n
ATTACH;FMTTYPE=image/jpeg:https://www.mnbeer.com/wp-content/uploads/2011/1
 2/boomMNb.gif
CATEGORIES:Breweries
LOCATION:Boom Island Brewing\, 2014 Washington Ave. N.\, Minneapolis\, MN\,
  55411\, United States
GEO:44.999874;-93.281334
X-APPLE-STRUCTURED-LOCATION;VALUE=URI;X-ADDRESS=2014 Washington Ave. N.\, M
 inneapolis\, MN\, 55411\, United States;X-APPLE-RADIUS=100;X-TITLE=Boom Is
 land Brewing:geo:44.999874,-93.281334
END:VEVENT
END:VCALENDAR