BEGIN:VCALENDAR
VERSION:2.0
PRODID:-//wp-events-plugin.com//7.2.3.1//EN
BEGIN:VEVENT
UID:789@mnbeer.com
DTSTART:20140815T000000Z
DTEND:20140815T013000Z
DTSTAMP:20140806T035022Z
URL:https://www.mnbeer.com/events/boom-island-meet-the-brewer-and-tap-take
 over/
SUMMARY:Boom Island Meet the Brewer and Tap Takeover
DESCRIPTION:South Lyndale is hosting a Meet the Brewer event with Kevin Wel
 ch from Boom Island!\n\nThe event is formatted as a tasting\, and Kevin We
 lch will talk about each one of the beers\, and how he got into brewing Be
 lgian beer- More information can be found here.
ATTACH;FMTTYPE=image/jpeg:https://www.mnbeer.com/wp-content/uploads/boomis
 landlogo.png
CATEGORIES:Tasting
LOCATION:Black Forest Inn Beer Garden\, 1 E 26th St\, Minneapolis\, MN\, 55
 404\, United States
GEO:44.9552821;-93.277623
X-APPLE-STRUCTURED-LOCATION;VALUE=URI;X-ADDRESS=1 E 26th St\, Minneapolis\,
  MN\, 55404\, United States;X-APPLE-RADIUS=100;X-TITLE=Black Forest Inn Be
 er Garden:geo:44.9552821,-93.277623
END:VEVENT
END:VCALENDAR