BEGIN:VCALENDAR
VERSION:2.0
PRODID:-//wp-events-plugin.com//7.2.3.1//EN
BEGIN:VEVENT
UID:1882@mnbeer.com
DTSTART:20160807T000000Z
DTEND:20160808T020000Z
DTSTAMP:20160623T153321Z
URL:https://www.mnbeer.com/events/boom-room-jazz-2016-08-06/
SUMMARY:Boom Room Jazz
DESCRIPTION:Brad Bellows and his “Cats” will return weekly\, affixing t
 he Boom Island Brewing Company taproom to an all-too-short list of go-to d
 estinations for high quality live jazz in the Twin cities.\n\nIf you haven
 ’t heard Brad Bellows and his group play\, picture swinging late 1960’
 s Prestige label era classic jazz. They have decades of experience in the 
 local and national jazz scene\, and it shows. This is not fluffy\, hotel l
 obby jazz.  As always\, there is no cover and music will begin promptly at
  7pm.  The taproom will stay open until 10pm during Boom Room Jazz events.
 \n\nTo use the jazz vernacular\, come to our crib every Saturday to wig ou
 t to our wailing cats of cool. Now you’re on the trolley.
ATTACH;FMTTYPE=image/jpeg:https://www.mnbeer.com/wp-content/uploads/700-Ja
 zz-2.jpg
CATEGORIES:Music
LOCATION:Boom Island Brewing\, 2014 Washington Ave N\, Minneapolis\, MN\, 5
 5411\, North Minneapolis\, United States
GEO:44.999873;-93.28133400000002
X-APPLE-STRUCTURED-LOCATION;VALUE=URI;X-ADDRESS=2014 Washington Ave N\, Min
 neapolis\, MN\, 55411\, North Minneapolis\, United States;X-APPLE-RADIUS=1
 00;X-TITLE=Boom Island Brewing:geo:44.999873,-93.28133400000002
END:VEVENT
END:VCALENDAR