BEGIN:VCALENDAR
VERSION:2.0
PRODID:-//wp-events-plugin.com//7.2.3.1//EN
BEGIN:VEVENT
UID:993@mnbeer.com
DTSTART:20150123T000000Z
DTEND:20150124T000000Z
DTSTAMP:20141212T002837Z
URL:https://www.mnbeer.com/events/bourbon-county-tap-party/
SUMMARY:Bourbon County Tap Party
DESCRIPTION:We will being having a Tap Party at 7pm January 22nd for Goose 
 Island Bourbon County and Goose Island Minx!
CATEGORIES:Bars/Restaurants
LOCATION:JC's Bar and Grill\, 13540 Grove Dr\, Maple Grove\, MN\, 55311\, U
 nited States
GEO:45.1046781;-93.4521901
X-APPLE-STRUCTURED-LOCATION;VALUE=URI;X-ADDRESS=13540 Grove Dr\, Maple Grov
 e\, MN\, 55311\, United States;X-APPLE-RADIUS=100;X-TITLE=JC's Bar and Gri
 ll:geo:45.1046781,-93.4521901
END:VEVENT
END:VCALENDAR