BEGIN:VCALENDAR
VERSION:2.0
PRODID:-//wp-events-plugin.com//7.2.3.1//EN
BEGIN:VEVENT
UID:752@mnbeer.com
DTSTART:20140716T230000Z
DTEND:20140717T030000Z
DTSTAMP:20140715T033802Z
URL:https://www.mnbeer.com/events/brasa-pig-roast-at-excelsior-brewing/
SUMMARY:Brasa Pig Roast at Excelsior Brewing
DESCRIPTION:There’s just something right about a pig roast in the middle 
 of summer. Excelsior plays host to just such an event with Brasa Premium R
 otisserie at the helm. Food starts at 6p and tickets are required!
ATTACH;FMTTYPE=image/jpeg:https://www.mnbeer.com/wp-content/uploads/Excels
 ior.jpg
LOCATION:Excelsior Brewing Co.\, 421 3rd Street\, Excelsior\, MN\, United S
 tates
GEO:44.902126;-93.566910
X-APPLE-STRUCTURED-LOCATION;VALUE=URI;X-ADDRESS=421 3rd Street\, Excelsior\
 , MN\, United States;X-APPLE-RADIUS=100;X-TITLE=Excelsior Brewing Co.:geo:
 44.902126,-93.566910
END:VEVENT
END:VCALENDAR