BEGIN:VCALENDAR
VERSION:2.0
PRODID:-//wp-events-plugin.com//7.2.3.1//EN
BEGIN:VEVENT
UID:760@mnbeer.com
DTSTART:20140905T160000Z
DTEND:20140908T040000Z
DTSTAMP:20140715T203259Z
URL:https://www.mnbeer.com/events/brau-brothers-brewing-co-1st-ever-hopfes
 t-celebration/
SUMMARY:Brau Brothers Brewing Co. 1st Ever Hopfest Celebration
DESCRIPTION:SAVE THE DATE - more details to come soon. \nhttps://www.facebo
 ok.com/events/1506557146234742/\n
ATTACH;FMTTYPE=image/jpeg:https://www.mnbeer.com/wp-content/uploads/hopfes
 t.jpg
CATEGORIES:Breweries
LOCATION:Brau Brothers Brewing Company\, 1010 East Southview Drive\, Marsha
 ll\, Minnesota\, 56258\, United States
GEO:44.436753;-95.77806900000002
X-APPLE-STRUCTURED-LOCATION;VALUE=URI;X-ADDRESS=1010 East Southview Drive\,
  Marshall\, Minnesota\, 56258\, United States;X-APPLE-RADIUS=100;X-TITLE=B
 rau Brothers Brewing Company:geo:44.436753,-95.77806900000002
END:VEVENT
END:VCALENDAR