BEGIN:VCALENDAR
VERSION:2.0
PRODID:-//wp-events-plugin.com//7.2.3.1//EN
BEGIN:VEVENT
UID:1209@mnbeer.com
DTSTART:20150506T233000Z
DTEND:20150507T013000Z
DTSTAMP:20150428T003807Z
URL:https://www.mnbeer.com/events/brau-brothers-brewmasters-beer-dinner-fe
 aturing-dustin-brau-at-cafe-maude/
SUMMARY:Brau Brothers Brewmaster's Beer Dinner featuring Dustin Brau at Caf
 e Maude
DESCRIPTION:On this night Cafe Maude will put on a five-course beer dinner 
 hosted by Dustin Brau incorporating the local beers of Brau Brothers into 
 the menu both by adding to recipes and serving along the side. Reservation
 s required. Call or stop into Cafe Maude to make a reservation. 612.822.54
 11 $50 per person.
CATEGORIES:Beer Dinner
LOCATION:Cafe Maude\, 5411 Penn Ave S \, Minneapolis\, Minnesota\, 55319\, 
 United States
GEO:44.90458779999999;-93.30828220000001
X-APPLE-STRUCTURED-LOCATION;VALUE=URI;X-ADDRESS=5411 Penn Ave S \, Minneapo
 lis\, Minnesota\, 55319\, United States;X-APPLE-RADIUS=100;X-TITLE=Cafe Ma
 ude:geo:44.90458779999999,-93.30828220000001
END:VEVENT
END:VCALENDAR