BEGIN:VCALENDAR
VERSION:2.0
PRODID:-//wp-events-plugin.com//7.2.3.1//EN
BEGIN:VEVENT
UID:755@mnbeer.com
DTSTART:20140807T210000Z
DTEND:20140808T000000Z
DTSTAMP:20140715T202757Z
URL:https://www.mnbeer.com/events/brau-brothers-sampling-at-northgate-liqu
 ors-in-blaine/
SUMMARY:Brau Brothers Sampling at Northgate Liquors in Blaine
DESCRIPTION:
LOCATION:Northgate Liquors\, 12513 central ave\, Blaine\, Minnesota\, Unite
 d States
GEO:45.1978801;-93.23188290000002
X-APPLE-STRUCTURED-LOCATION;VALUE=URI;X-ADDRESS=12513 central ave\, Blaine\
 , Minnesota\, United States;X-APPLE-RADIUS=100;X-TITLE=Northgate Liquors:g
 eo:45.1978801,-93.23188290000002
END:VEVENT
END:VCALENDAR