BEGIN:VCALENDAR
VERSION:2.0
PRODID:-//wp-events-plugin.com//7.2.3.1//EN
BEGIN:VEVENT
UID:1208@mnbeer.com
DTSTART:20150505T230000Z
DTEND:20150506T043000Z
DTSTAMP:20150428T001814Z
URL:https://www.mnbeer.com/events/brau-brothers-special-beer-beast-at-acad
 ia-cafe/
SUMMARY:Brau Brothers Special Beer &amp\; Beast at Acadia Cafe
DESCRIPTION:On this Special Tuesday of MN Craft Beer Week Acadia Cafe will 
 be firing up the smoker to serve up some tasty meat paired with a pour of 
 cask beer from Brau Brothers. For one small price you get a plate of food 
 and a glass of beer. Check it out!\n*Complete menu coming soon!
CATEGORIES:Cask Beer
LOCATION:The Acadia Cafe\, 329 Cedar AVE\, Minneapolis\, MN\, 55454\, Unite
 d States
GEO:44.9709853;-93.24707169999999
X-APPLE-STRUCTURED-LOCATION;VALUE=URI;X-ADDRESS=329 Cedar AVE\, Minneapolis
 \, MN\, 55454\, United States;X-APPLE-RADIUS=100;X-TITLE=The Acadia Cafe:g
 eo:44.9709853,-93.24707169999999
END:VEVENT
END:VCALENDAR