BEGIN:VCALENDAR
VERSION:2.0
PRODID:-//wp-events-plugin.com//7.2.3.1//EN
BEGIN:VEVENT
UID:737@mnbeer.com
DTSTART:20140712T180000Z
DTEND:20140712T210000Z
DTSTAMP:20140624T193308Z
URL:https://www.mnbeer.com/events/brew-battle-craft-beer-festival-of-the-h
 ighest-order/
SUMMARY:Brew Battle - Craft Beer Festival of the Highest Order
DESCRIPTION:A craft beer festival featuring 33 breweries\, 109 craft beers.
 \nTickets are $25.00 in advance\, $30.00 at the gate\n\nFor full details\,
  visit Lakeville Liquors Facebook page or the city website at www.lakevill
 emn.gov \n\nTo buy tickets on line visit https://www.lakeville-rapconnect.
 com/Activities/ActivitiesAdvSearch.asp\n\nAll proceeds from this event wil
 l go towards the Lakeville Heritage Center\, Lakeville Area Arts Center an
 d Pan-O-Prog
CATEGORIES:Festival
LOCATION:Lakeville Area Arts Festival\, 20965 Holyoke Ave\, Lakeville\, mn\
 , 55044\, United States
GEO:44.64570459999999;-93.24333990000002
X-APPLE-STRUCTURED-LOCATION;VALUE=URI;X-ADDRESS=20965 Holyoke Ave\, Lakevil
 le\, mn\, 55044\, United States;X-APPLE-RADIUS=100;X-TITLE=Lakeville Area 
 Arts Festival:geo:44.64570459999999,-93.24333990000002
END:VEVENT
END:VCALENDAR