BEGIN:VCALENDAR
VERSION:2.0
PRODID:-//wp-events-plugin.com//7.2.3.1//EN
BEGIN:VEVENT
UID:3245@mnbeer.com
DTSTART:20180714T180000Z
DTEND:20180714T213000Z
DTSTAMP:20180629T173448Z
URL:https://www.mnbeer.com/events/brew-battle-social-2018-lakevilles-4th-a
 nnual-beer-festival/
SUMMARY:Brew Battle Social 2018   Lakeville\\'s 4th Annual Beer Festival
DESCRIPTION:Search: brewbattle2018.eventbrite.com for ticket purchase\n\nSa
 turday July 14th\, 1:00 pm - 4:30 pm\, the 4th Annual "Brew Battle Social"
  takes place during Lakeville's Pan-O-Prog city celebration.  The beer fes
 tival location is on the South Lawn of the Lakeville Area Arts Center @ 20
 965 Holyoke Ave\, Lakeville\, MN  55044.  The Lakeville Lions and Lakevill
 e Liquors sponsor this fundraising event.\n\nEnjoy samples of over 80 beer
 s from 30 brewers on a Saturday afternoon in July.  Entertainment provided
  by Dave Hudson and great food will be served on-site.  For you active fol
 ks we will have Bags and Hammer-Schlagen on-site.  Plenty of picnic tables
 \, grass\, and shade for the rest of us.  Brewers are located under a huge
  100' x 60\, tent and therefore event goes rain or shine.\n\n•Doors open
  @ 12:45 pm\, sampling begins @ 1:00 pm and ends @ 4:30 pm\n\n•Advance G
 eneral Admission:  $25 On sale 6/10/18 - 7/13/18 Ticket includes Sample Gl
 ass and Lanyard\n\n•General Admission\, Day of Event (Saturday July 14th
 ):  $30\, Ticket includes Sample Glass and Lanyard\n\n•Designated Driver
  Tickets available and include food and Non-Alcoholic beverage:  $10\n\nSt
 ay for the Pan-O-Prog Grand Parade which begins @ 5:30 pm.  Festival groun
 ds are located at the beginning of the parade route where you can view one
  of the largest parades in Minnesota this summer.\n\nParking restrictions 
 in place due to Grand Parade Event.  Please plan so you can be at the even
 t for an on-time departure. Proceeds from this Lions Club fundraising even
 t will support unique and special projects in conjunction with the City of
  Lakeville. Contact lionsoflakevillemn@gmail.com with questions \n
ATTACH;FMTTYPE=image/jpeg:https://www.mnbeer.com/wp-content/uploads/Brew-B
 attle-615x473-1.jpg
CATEGORIES:Beer Festival
LOCATION:Lakeville Area Arts Center - South Lawn\, 20965 Holyoke Ave\, Lake
 ville\, MN\, 55044\, United States
GEO:44.64570459999999;-93.24333990000002
X-APPLE-STRUCTURED-LOCATION;VALUE=URI;X-ADDRESS=20965 Holyoke Ave\, Lakevil
 le\, MN\, 55044\, United States;X-APPLE-RADIUS=100;X-TITLE=Lakeville Area 
 Arts Center - South Lawn:geo:44.64570459999999,-93.24333990000002
END:VEVENT
END:VCALENDAR