BEGIN:VCALENDAR
VERSION:2.0
PRODID:-//wp-events-plugin.com//7.2.3.1//EN
BEGIN:VEVENT
UID:3157@mnbeer.com
DTSTART:20180520T170000Z
DTEND:20180520T180000Z
DTSTAMP:20180502T135954Z
URL:https://www.mnbeer.com/events/brew-like-a-pro-all-grain-brewing-101/
SUMMARY:Brew Like a Pro - All Grain Brewing 101
DESCRIPTION:Brew like a pro. Master the all grain techniques used in brewer
 ies all around the world. Our All-Grain experts will show you how to ditch
  the dread and teach you how to mash\, lauter\, sparge and create your own
  fermentable wort from grains. This is the class to build on your extract 
 brewing skills\, or learn from the ground up with practical tips and hands
 -on demos from the pros.\n\nInfo: http://nbrew.me/brewl82b5a
CATEGORIES:Homebrew
LOCATION:Midwest Supplies\, 5825 EXCELSIOR BLVD. \, ST LOUIS PARK\, MN\, 55
 414\, United States
GEO:44.9287528;-93.35441400000002
X-APPLE-STRUCTURED-LOCATION;VALUE=URI;X-ADDRESS=5825 EXCELSIOR BLVD. \, ST 
 LOUIS PARK\, MN\, 55414\, United States;X-APPLE-RADIUS=100;X-TITLE=Midwest
  Supplies:geo:44.9287528,-93.35441400000002
END:VEVENT
END:VCALENDAR