BEGIN:VCALENDAR
VERSION:2.0
PRODID:-//wp-events-plugin.com//7.2.3.1//EN
BEGIN:VEVENT
UID:1894@mnbeer.com
DTSTART:20160811T220000Z
DTEND:20160812T010000Z
DTSTAMP:20160708T134155Z
URL:https://www.mnbeer.com/events/brew-love-benefiting-ronald-mcdonald-hou
 se-charities-upper-midwest/
SUMMARY:Brew Love - Benefiting Ronald McDonald House Charities - Upper Midw
 est
DESCRIPTION:Join us on Thursday\, August 11 at the Depot Shed in Minneapoli
 s for the 7th annual Brew Love. 30 local and regional craft breweries\, si
 x food trucks\, live music\, games and more than 1000 beer lovers will com
 e together on a summer’s eve to help families facing the serious illness
  of a child.\n\nTickets are on sale now! The $60 tickets includes your tas
 ting glass to try all 30 breweries as well as food from the food trucks. G
 et your tickets online at http://www.rmhtwincities.org/brewlove/.\n\nAll e
 vent proceeds will enable us to provide a comfortable and caring home-away
 -from-home that supports keeping families together and reduces stress duri
 ng a child’s serious illness.\n\nHelping others never tasted so good!
ATTACH;FMTTYPE=image/jpeg:https://www.mnbeer.com/wp-content/uploads/brew-l
 ove-logo-2016-WEB.jpg
CATEGORIES:Beer Festival
LOCATION:The Depot Shed\, 225 3rd Ave S.\, Minneapolis\, MN\, 55414\, Unite
 d States
GEO:33.4979496;-86.82791370000001
X-APPLE-STRUCTURED-LOCATION;VALUE=URI;X-ADDRESS=225 3rd Ave S.\, Minneapoli
 s\, MN\, 55414\, United States;X-APPLE-RADIUS=100;X-TITLE=The Depot Shed:g
 eo:33.4979496,-86.82791370000001
END:VEVENT
END:VCALENDAR