BEGIN:VCALENDAR
VERSION:2.0
PRODID:-//wp-events-plugin.com//7.2.3.1//EN
BEGIN:VEVENT
UID:774@mnbeer.com
DTSTART:20140821T220000Z
DTEND:20140822T010000Z
DTSTAMP:20140730T180005Z
URL:https://www.mnbeer.com/events/brew-love/
SUMMARY:Brew Love
DESCRIPTION:The perfect event for beer lovers and do-gooders\, Brew Love wi
 ll feature a great line-up of craft breweries and tasty treats from severa
 l local food trucks. Tickets are $40 and include beer\, food\, games\, and
  live music. All proceeds benefit the Ronald McDonald House Charities\, Up
 per Midwest.
CATEGORIES:Beer Festival,Charity
LOCATION:The Depot Shed\, 225 Third Street\, Minneapolis\, MN\, United Stat
 es
GEO:44.9794813;-93.26598849999999
X-APPLE-STRUCTURED-LOCATION;VALUE=URI;X-ADDRESS=225 Third Street\, Minneapo
 lis\, MN\, United States;X-APPLE-RADIUS=100;X-TITLE=The Depot Shed:geo:44.
 9794813,-93.26598849999999
END:VEVENT
END:VCALENDAR