BEGIN:VCALENDAR
VERSION:2.0
PRODID:-//wp-events-plugin.com//7.2.3.1//EN
BEGIN:VEVENT
UID:702@mnbeer.com
DTSTART:20140612T223000Z
DTEND:20140613T013000Z
DTSTAMP:20140521T212548Z
URL:https://www.mnbeer.com/events/brew-solution/
SUMMARY:Brew Solution
DESCRIPTION:Join us for BREW SOLUTIONS at Day Block Brewing Company on June
  12 for an evening of exciting new beers\, delicious food\, and a celebrat
 ion of the movement to develop a local and sustainable economy.\n\nTickets
  are $35. Buy your ticket online today to get a free beer! www.brewsolutio
 ns.eventbrite.com\n\nDay Block\, which opened in early 2014\, has a great 
 rotating selection of craft brews. It was just selected as the "Best New B
 rewpub" by the Star Tribune: http://www.startribune.com/lifestyle/bestofmn
 /257987071.html?src=news-stmp\n\nIf you haven't been to Day Block yet\, co
 me for BREW SOLUTIONS and enjoy a buffet of their pizzas and appetizers. I
 f you've already been\, come back and try one of the new beers on tap. \n\
 nBREW SOLUTIONS is a fundraiser for Grand Aspirations\, a non-profit organ
 ization that builds youth leadership in the green economy. Started in the 
 Twin Cities\, Grand Aspirations now supports groups youth leaders in more 
 than 15 communities around the world to seek and develop solutions to clim
 ate change and inequity.
ATTACH;FMTTYPE=image/jpeg:https://www.mnbeer.com/wp-content/uploads/square
 _small.jpg
CATEGORIES:Bars/Restaurants,Breweries,Brewpubs,Charity,Misc.
LOCATION:Day Block Brewing\, 1105 Washington Avenue S\, Minneapolis\, MN\, 
 55407\, United States
GEO:44.973766;-93.230217
X-APPLE-STRUCTURED-LOCATION;VALUE=URI;X-ADDRESS=1105 Washington Avenue S\, 
 Minneapolis\, MN\, 55407\, United States;X-APPLE-RADIUS=100;X-TITLE=Day Bl
 ock Brewing:geo:44.973766,-93.230217
END:VEVENT
END:VCALENDAR