BEGIN:VCALENDAR
VERSION:2.0
PRODID:-//wp-events-plugin.com//7.2.3.1//EN
BEGIN:VEVENT
UID:3153@mnbeer.com
DTSTART:20180512T160000Z
DTEND:20180512T170000Z
DTSTAMP:20180502T135952Z
URL:https://www.mnbeer.com/events/brew-your-own-beer-intro-to-beer-2/
SUMMARY:Brew Your Own Beer - Intro to Beer
DESCRIPTION:
LOCATION:Midwest Supply\, 2221 MN-36\, Roseville\, Minnesota\, 55113\, Unit
 ed States
GEO:45.0114043;-93.19338590000001
X-APPLE-STRUCTURED-LOCATION;VALUE=URI;X-ADDRESS=2221 MN-36\, Roseville\, Mi
 nnesota\, 55113\, United States;X-APPLE-RADIUS=100;X-TITLE=Midwest Supply:
 geo:45.0114043,-93.19338590000001
END:VEVENT
END:VCALENDAR