BEGIN:VCALENDAR
VERSION:2.0
PRODID:-//wp-events-plugin.com//7.2.3.1//EN
BEGIN:VEVENT
UID:3154@mnbeer.com
DTSTART:20180512T050000Z
DTEND:20180512T050000Z
DTSTAMP:20180502T135952Z
URL:https://www.mnbeer.com/events/brew-your-own-beer-intro-to-beer/
SUMMARY:Brew Your Own Beer - Intro to Beer
DESCRIPTION:Ready to embark on your grand brewing adventure? Learn how to b
 rew great beer at home with our very own Midwest Extract Kits. Our brewmas
 ters will walk you through the entire process from boiling the wort to bot
 tling your brew. We’ll also explain what each ingredient does and how it
  affects the beer. Don’t miss out on this opportunity to learn practical
  tips and techniques for a successful brew day.
CATEGORIES:Homebrew
LOCATION:Midwest Supplies\, 5825 EXCELSIOR BLVD. \, ST LOUIS PARK\, MN\, 55
 414\, United States
GEO:44.9287528;-93.35441400000002
X-APPLE-STRUCTURED-LOCATION;VALUE=URI;X-ADDRESS=5825 EXCELSIOR BLVD. \, ST 
 LOUIS PARK\, MN\, 55414\, United States;X-APPLE-RADIUS=100;X-TITLE=Midwest
  Supplies:geo:44.9287528,-93.35441400000002
END:VEVENT
END:VCALENDAR