BEGIN:VCALENDAR
VERSION:2.0
PRODID:-//wp-events-plugin.com//7.2.3.1//EN
BEGIN:VEVENT
UID:3163@mnbeer.com
DTSTART:20180513T160000Z
DTEND:20180513T170000Z
DTSTAMP:20180502T135953Z
URL:https://www.mnbeer.com/events/brewmasters-series-balancing-your-draft-
 system/
SUMMARY:Brewmasters' Series - Balancing Your Draft System
DESCRIPTION:In search of the perfect pour? Well\, there’s a lot more to t
 he perfect pour than just correct carbonation and fabulous foam. It requir
 es a proper set up and a well-maintained draft system to bring out the bes
 t flavors in your brew. Join our draft guru\, Chris\, in this course and l
 earn crucial tips and techniques for balancing your draft system and take 
 you one step closer to beervana with every pint. Chris will demystify the 
 inner workings of your draft system and show you the best methods to clean
  and replace your lines so you understand the mechanics of clean lines\, f
 low rate\, and gas solubility.\n\nInfo: http://nbrew.me/brewm7f76c
CATEGORIES:Homebrew
LOCATION:Northern Brewer\, 6012 Lyndale Avenue South\, Minneapolis\, MN\, 5
 5419\, United States
GEO:44.8934989;-93.28960569999998
X-APPLE-STRUCTURED-LOCATION;VALUE=URI;X-ADDRESS=6012 Lyndale Avenue South\,
  Minneapolis\, MN\, 55419\, United States;X-APPLE-RADIUS=100;X-TITLE=North
 ern Brewer:geo:44.8934989,-93.28960569999998
END:VEVENT
END:VCALENDAR