BEGIN:VCALENDAR
VERSION:2.0
PRODID:-//wp-events-plugin.com//7.2.3.1//EN
BEGIN:VEVENT
UID:3166@mnbeer.com
DTSTART:20180520T160000Z
DTEND:20180520T170000Z
DTSTAMP:20180502T135954Z
URL:https://www.mnbeer.com/events/brewmasters-series-lagering-2/
SUMMARY:Brewmasters’ Series – Lagering
DESCRIPTION:Ever dreamed about making the world’s best Oktoberfest? Or pe
 rhaps an award-winning Czech Pilsner or Munich Helles? Then this is the cl
 ass for you. Our knowledgeable brewmasters will guide you through every st
 ep of brewing a crisp\, clean lager. We’ll show you how to master the to
 ughest brewing challenge there is by demonstrating the lager brewing proce
 ss and decoction. We’ll also share crucial techniques for managing the y
 east health and cold fermentation to ensure your first brew is a success. 
 Prost!\n\nInfo: http://nbrew.me/brewm10d0a\n
CATEGORIES:Homebrew
LOCATION:Northern Brewer\, 6012 Lyndale Avenue South\, Minneapolis\, MN\, 5
 5419\, United States
GEO:44.8934989;-93.28960569999998
X-APPLE-STRUCTURED-LOCATION;VALUE=URI;X-ADDRESS=6012 Lyndale Avenue South\,
  Minneapolis\, MN\, 55419\, United States;X-APPLE-RADIUS=100;X-TITLE=North
 ern Brewer:geo:44.8934989,-93.28960569999998
END:VEVENT
END:VCALENDAR