BEGIN:VCALENDAR
VERSION:2.0
PRODID:-//wp-events-plugin.com//7.2.3.1//EN
BEGIN:VEVENT
UID:3419@mnbeer.com
DTSTART:20190201T193000Z
DTEND:20190201T213000Z
DTSTAMP:20190123T184723Z
URL:https://www.mnbeer.com/events/bridgets-day-la-fheile-bride/
SUMMARY:Bridget's Day -Lá Fhéile Bríde
DESCRIPTION:Irish Duluth invites you to our second annual St Bridget's Day 
 at Carmody Irish Pub! This February 1st we'll meet for fun\, food\, and a 
 pint or two and make traditional Irish Bridget Crosses (Crosóga Bhríde).
  All are welcome! Event is open to all ages\, and is free with materials f
 or the crosses provided (donations to offset cost are welcome if you feel 
 inclined).\nFeel free to message here\, or email at irishduluth@gmail.com 
 with any questions.\n\n-John McLoughlin\n\nhttps://www.facebook.com/events
 /281331435886157/
LOCATION:Carmody's Irish Pub\, 308 E Superior Street\, Duluth\, MN\, United
  States
GEO:46.789887;-92.09385700000001
X-APPLE-STRUCTURED-LOCATION;VALUE=URI;X-ADDRESS=308 E Superior Street\, Dul
 uth\, MN\, United States;X-APPLE-RADIUS=100;X-TITLE=Carmody's Irish Pub:ge
 o:46.789887,-92.09385700000001
END:VEVENT
END:VCALENDAR