BEGIN:VCALENDAR
VERSION:2.0
PRODID:-//wp-events-plugin.com//7.2.3.1//EN
BEGIN:VEVENT
UID:787@mnbeer.com
DTSTART:20140810T200000Z
DTEND:20140811T000000Z
DTSTAMP:20140806T034842Z
URL:https://www.mnbeer.com/events/brooklyn-brewery-mash-dinner-on-the-farm
 /
SUMMARY:Brooklyn Brewery MASH - Dinner on the Farm
DESCRIPTION:Brooklyn Brewery Chef Andrew Gerson will partner with local che
 fs from Haute Dish to develop a menu that takes advantage of the bountiful
  Twin Cities area. The result is a family-style feast bringing together fa
 rm-raised produce\, local artists\, Brooklyn beer and a community interest
 ed in all of the above. More info: http://brooklynbrewerymash.com/twin-cit
 ies/dinner-on-the-farm-with-brooklyn-brewery-chef-andrew-gerson 
ATTACH;FMTTYPE=image/jpeg:https://www.mnbeer.com/wp-content/uploads/Mash-L
 ogo.png
CATEGORIES:Beer Dinner
LOCATION:Luster Lands Organic Farm\, 43700 Balsam Avenue\, Harris\, United 
 States
GEO:45.581921;-93.12746399999997
X-APPLE-STRUCTURED-LOCATION;VALUE=URI;X-ADDRESS=43700 Balsam Avenue\, Harri
 s\, United States;X-APPLE-RADIUS=100;X-TITLE=Luster Lands Organic Farm:geo
 :45.581921,-93.12746399999997
END:VEVENT
END:VCALENDAR