BEGIN:VCALENDAR
VERSION:2.0
PRODID:-//wp-events-plugin.com//7.2.3.1//EN
BEGIN:VEVENT
UID:3420@mnbeer.com
DTSTART:20190208T180000Z
DTEND:20190208T210000Z
DTSTAMP:20190123T184936Z
URL:https://www.mnbeer.com/events/brut-ipa-release-party/
SUMMARY:Brut IPA Release Party!
DESCRIPTION:Introducing the second Taproom Series beer of 2019\, Brut IPA!\
 nBrut IPA is a very special brew. Borrowing its name from the wine world -
  brut means very dry - this beer boasts a very dry and crisp finish. We us
 e Pilsen Malt\, Sauvignon Blanc grapes\, and New Zealand hops to provide a
  unique fruity aroma and gentle bitterness while keeping the beer light in
  body and color. Hints of green grape and melon add depth to the flavors y
 ou get in a traditional IPA\, making this unique brew one to try.\nWe will
  be tapping this beer AT 6 pm on the 8th and not a minute before. What you
  can look forward to: an introduction to Brut IPA by one of our brewers at
  6pm\, live music by John Cron starting at 7pm\, hourly prize drawings\, m
 ultiple infusions of Brut IPA\, and a local restaurant pop-up shop. *The f
 irst 24 people to order a Brut IPA will get a free Team Danger pint glass.
 * We're also offering $1 off pints and discounted growlers of Brut IPA dur
 ing the party. The first drawing will be at 7pm and will go every hour unt
 il 9pm - must purchase a pint of Brut IPA to enter the drawing\, and must 
 be present to win. Mark your calendars!!\n\nhttps://www.facebook.com/event
 s/527382424410250/
LOCATION:Castle Danger Brewery\, 17 7th Street\, Two Harbors\, MN\, 55616\,
  United States
GEO:47.0197441;-91.67289299999999
X-APPLE-STRUCTURED-LOCATION;VALUE=URI;X-ADDRESS=17 7th Street\, Two Harbors
 \, MN\, 55616\, United States;X-APPLE-RADIUS=100;X-TITLE=Castle Danger Bre
 wery:geo:47.0197441,-91.67289299999999
END:VEVENT
END:VCALENDAR