BEGIN:VCALENDAR
VERSION:2.0
PRODID:-//wp-events-plugin.com//7.2.3.1//EN
BEGIN:VEVENT
UID:3218@mnbeer.com
DTSTART:20180609T160000Z
DTEND:20180609T170000Z
DTSTAMP:20180518T125941Z
URL:https://www.mnbeer.com/events/bypass-bottling-kegging-and-keezers/
SUMMARY:Bypass Bottling: Kegging and Keezers
DESCRIPTION:Tired of bottling beer? Ditch the bottles and switch to kegging
 ! In this intro-level class\, we’ll take the guesswork out of kegging an
 d show you how to properly set up your draft systems\, carbonate your beer
 \, and share your brew-tastic creations. You’ll never have to wait 2-4 w
 eeks to enjoy your homebrew again. Best of all\, get 15% off the purchase 
 of any keg system\, and kiss bottling goodbye!\n\nCourse Overview:\n\nKegg
 ing components\, keg anatomy\, ball lock vs pin lock\nHow to keg a beer: f
 orce carbonation\, serving pressure\, maintaining your system\nTroubleshoo
 ting: foam\, leaks\, diagnosing problems\nSafety: kegging is very safe\, b
 ut it is important to recognize potential hazards when working with compre
 ssed gases.\n\nSign Up Here: http://nbrew.me/submiec055
CATEGORIES:Homebrew
LOCATION:Northern Brewer - St. Paul\, 1150 Grand Ave\, St. Paul\, Minnesota
 \, 55105\, United States
GEO:44.9333345;-93.34125289999997
X-APPLE-STRUCTURED-LOCATION;VALUE=URI;X-ADDRESS=1150 Grand Ave\, St. Paul\,
  Minnesota\, 55105\, United States;X-APPLE-RADIUS=100;X-TITLE=Northern Bre
 wer - St. Paul:geo:44.9333345,-93.34125289999997
END:VEVENT
END:VCALENDAR