BEGIN:VCALENDAR
VERSION:2.0
PRODID:-//wp-events-plugin.com//7.2.3.1//EN
BEGIN:VEVENT
UID:769@mnbeer.com
DTSTART:20140802T230000Z
DTEND:20140803T030000Z
DTSTAMP:20140730T163922Z
URL:https://www.mnbeer.com/events/canterbury-parks-beerfest/
SUMMARY:Canterbury Park's Beerfest
DESCRIPTION:Sample a variety of the best domestic\, imported\, specialty\, 
 craft\, seasonal and micro brewed beers available in Minnesota\, while wat
 ching live horse racing! A beer fest ticket includes all beer samples\, li
 ve music From Bad Girlfriends and live horse racing admission. Food availa
 ble for purchase. General admission tickets are $35 in advance\, $45 the d
 ay of Beerfest\, and $10 for Designated Driver tickets. Enjoy exclusive ac
 cess to our VIP area with access beginning at 5:30 PM for $55. Your ticket
  includes 12oz. pours of select beers plus FREE food from Qdoba. To purcha
 se tickets and for more information\, visit http://www.canterburypark.com/
 LiveRacing/Promotions/CanterburyBeerFest/tabid/485/Default.aspx.\n\nMust b
 e 21 or older with valid ID to participate.
ATTACH;FMTTYPE=image/jpeg:https://www.mnbeer.com/wp-content/uploads/beerfe
 st2014_icon.jpg
CATEGORIES:Beer Festival
LOCATION:Canterbury Park\, 1100 Canterbury Rd\, Shakopee\, MN\, 55379\, Uni
 ted States
GEO:44.790482;-93.483009
X-APPLE-STRUCTURED-LOCATION;VALUE=URI;X-ADDRESS=1100 Canterbury Rd\, Shakop
 ee\, MN\, 55379\, United States;X-APPLE-RADIUS=100;X-TITLE=Canterbury Park
 :geo:44.790482,-93.483009
END:VEVENT
END:VCALENDAR