BEGIN:VCALENDAR
VERSION:2.0
PRODID:-//wp-events-plugin.com//7.2.3.1//EN
BEGIN:VEVENT
UID:3134@mnbeer.com
DTSTART:20180630T210000Z
DTEND:20180701T010000Z
DTSTAMP:20180425T140205Z
URL:https://www.mnbeer.com/events/cheers-for-charity-craft-beer-event/
SUMMARY:Cheers for Charity Craft Beer Event
DESCRIPTION:Join us on Saturday\, June 30\, 2018\; 4-8pm for a Craft Beer T
 asting event outdoors at the Mall of America. We will be pouring unlimited
  samples of beer from local and national craft breweries. Featuring live m
 usic from cover band\, Good for Gary.  \n\nThis is an annual fund raising 
 event by the Bloomington Noon Rotary Club. All proceeds go to charity. \n\
 n• $25 tickets\n• Easy\, Ample Parking\n• Easy Access on Light Rail\
 n• 21+ Event (ID Required)\n\nLearn more at: http://www.cheersforcharity
 .com/\nBuy tickets at: https://tickets.beerfests.com/event/cheers-for-char
 ity \n
ATTACH;FMTTYPE=image/jpeg:https://www.mnbeer.com/wp-content/uploads/128011
 16_205639556463501_7856571577396278615_n.png
CATEGORIES:Beer Festival
LOCATION:Mall of America North Parking Lot\, 60 East Broadway\, Bloomington
 \, MN\, 55425\, United States
GEO:44.8544766;-93.2401046
X-APPLE-STRUCTURED-LOCATION;VALUE=URI;X-ADDRESS=60 East Broadway\, Blooming
 ton\, MN\, 55425\, United States;X-APPLE-RADIUS=100;X-TITLE=Mall of Americ
 a North Parking Lot:geo:44.8544766,-93.2401046
END:VEVENT
END:VCALENDAR