BEGIN:VCALENDAR
VERSION:2.0
PRODID:-//wp-events-plugin.com//7.2.3.1//EN
BEGIN:VEVENT
UID:1917@mnbeer.com
DTSTART:20160917T190000Z
DTEND:20160917T230000Z
DTSTAMP:20160722T172142Z
URL:https://www.mnbeer.com/events/cheers-to-morrison-county-2016/
SUMMARY:Cheers to Morrison County 2016
DESCRIPTION:Over 100 beers\, hard ciders\, and wines\, along with free food
  from 5 vendors. Join 750 attendees at this awesome event to raise money f
 or the Morrison County Area Foundation. Free shuttle bus service from Pier
 z\, Royalton\, and Little Falls\, or drive yourself. Tickets available onl
 ine at www.cheerstomc.com. 
CATEGORIES:Beer Festival,Charity,Festival,Tasting
LOCATION:The Hangar at Camp Ripley\, 15000 Highway 115\, Little Falls\, MN\
 , 56345\, Central\, United States
GEO:46.0795108;-94.34859510000001
X-APPLE-STRUCTURED-LOCATION;VALUE=URI;X-ADDRESS=15000 Highway 115\, Little 
 Falls\, MN\, 56345\, Central\, United States;X-APPLE-RADIUS=100;X-TITLE=Th
 e Hangar at Camp Ripley:geo:46.0795108,-94.34859510000001
END:VEVENT
END:VCALENDAR