BEGIN:VCALENDAR
VERSION:2.0
PRODID:-//wp-events-plugin.com//7.2.3.1//EN
BEGIN:VEVENT
UID:1011@mnbeer.com
DTSTART:20150201T180000Z
DTEND:20150201T220000Z
DTSTAMP:20150107T215130Z
URL:https://www.mnbeer.com/events/chili-cook-off/
SUMMARY:Chili Cook Off
DESCRIPTION:Our annual Chili Cook-Off\, a chance to prove you've got what i
 t takes. In the kitchen.\n\nNo entry fee\, just submit at least five quart
 s of your special chili in a heated pot by 11:30AM on Super Bowl Sunday. P
 ublic tasting will begin at 1pm. Prizes will be awarded to the top two chi
 lis\, plus the People's Choice. Sign up ahead of time at the Brewery to be
  sure we have space for your entry.
ATTACH;FMTTYPE=image/jpeg:https://www.mnbeer.com/wp-content/uploads/2008/0
 1/townhall.jpg
CATEGORIES:Brewpubs
LOCATION:Minneapolis Town Hall Brewery\, 1430 Washington Avenue South\, Min
 neapolis\, MN\, United States
GEO:44.9733315;-93.24778570000001
X-APPLE-STRUCTURED-LOCATION;VALUE=URI;X-ADDRESS=1430 Washington Avenue Sout
 h\, Minneapolis\, MN\, United States;X-APPLE-RADIUS=100;X-TITLE=Minneapoli
 s Town Hall Brewery:geo:44.9733315,-93.24778570000001
END:VEVENT
END:VCALENDAR