BEGIN:VCALENDAR
VERSION:2.0
PRODID:-//wp-events-plugin.com//7.2.3.1//EN
BEGIN:VEVENT
UID:757@mnbeer.com
DTSTART:20140823T154500Z
DTEND:20140824T000000Z
DTSTAMP:20140715T203417Z
URL:https://www.mnbeer.com/events/chipotles-cultivate-food-ideas-music-fes
 tival/
SUMMARY:Chipotle's Cultivate Food\, Ideas &amp\; Music Festival 
DESCRIPTION:Whether you want to sample some of the best craft brews in the 
 city or treat your palate with top quality sustainable wines\, we’ve got
  you covered at the Tasting Hall.
CATEGORIES:Beer Festival
LOCATION:Loring Park\, Grant Avenue &amp\; Willow Street\, Minneapolis\, Mi
 nnesota\, 44304\, United States
GEO:44.9698605;-93.2818623
X-APPLE-STRUCTURED-LOCATION;VALUE=URI;X-ADDRESS=Grant Avenue & Willow Stree
 t\, Minneapolis\, Minnesota\, 44304\, United States;X-APPLE-RADIUS=100;X-T
 ITLE=Loring Park:geo:44.9698605,-93.2818623
END:VEVENT
END:VCALENDAR