BEGIN:VCALENDAR
VERSION:2.0
PRODID:-//wp-events-plugin.com//7.2.3.1//EN
BEGIN:VEVENT
UID:3177@mnbeer.com
DTSTART:20180613T230000Z
DTEND:20180614T010000Z
DTSTAMP:20180514T062300Z
URL:https://www.mnbeer.com/events/cigars-n-suds/
SUMMARY:Cigars 'n Suds
DESCRIPTION:The first evening of cigar and beer parings at the Brewery in 2
 018! \n\nFeaturing special guest Scott O’Hearn — Territory Manager for
  the largest manufacturer of premium cigars in the world — the night inc
 ludes an informal presentation on cigars and beers on our patio\, two prem
 ium cigars\, two craft brews\, a cigar gift pack\, and entry in prize draw
 ings.\n\nTickets are very limited for this event and will go fast.\n\n$30 
 per person\, tickets go on sale May 15th.\n\nMore info: http://bigwoodbrew
 ery.com/event/cigars-n-suds-2018-6/\n\nAbout Scott O’Hearn:\nScott O’H
 earn is a Premium Territory Manager for Altadis USA Premium Cigars\, the l
 argest manufacturer of premium cigars in the world. Scott is based out of 
 White Bear Lake\, MN and his territory covers 6 states in the Midwest. Sco
 tt has been with Altadis USA for 16 years. Scott will explain how cigars a
 re made\, what makes a great cigar\, the differences between wraps and fil
 lers\, and the parallels of pairing cigars and craft beer. Scott believes 
 that finding a great cigar is simple: “You just clip it\, light it\, and
  smoke it. If you like it\, then it’s a good cigar.”
ATTACH;FMTTYPE=image/jpeg:https://www.mnbeer.com/wp-content/uploads/Cigars
 -n-Suds-FB-Event-Image.jpg
CATEGORIES:Breweries,Brewpubs,Misc.,Pairing
LOCATION:Big Wood Brewery\, 2222 4th Street\, White Bear Lake\, Minnesota\,
  55110\, United States
GEO:45.0853084;-93.00678719999996
X-APPLE-STRUCTURED-LOCATION;VALUE=URI;X-ADDRESS=2222 4th Street\, White Bea
 r Lake\, Minnesota\, 55110\, United States;X-APPLE-RADIUS=100;X-TITLE=Big 
 Wood Brewery:geo:45.0853084,-93.00678719999996
END:VEVENT
END:VCALENDAR