BEGIN:VCALENDAR
VERSION:2.0
PRODID:-//wp-events-plugin.com//7.2.3.1//EN
BEGIN:VEVENT
UID:3307@mnbeer.com
DTSTART:20190112T170000Z
DTEND:20190113T040000Z
DTSTAMP:20190110T141638Z
URL:https://www.mnbeer.com/events/coffee-shop-assault-vehicle-bottle-relea
 se/
SUMMARY:Coffee Shop Assault Vehicle - Bottle Release
DESCRIPTION:Join us Saturday\, Jan 12th at noon in the taproom for the rele
 ase of Coffee Shop Assault Vehicle\, a 12% ABV Imperial Stout infused with
  chocolate and bourbon barrel aged coffee beans! ????☕\n.\nBottles will 
 be $15 each\, with a limit of two. We'll be pouring it on tap\, and we'll 
 have barrel aged coffee beans for sale as well\, the same beans we used in
  the beer!\n.\nWe worked with @paradiseroasters to source green coffee bea
 ns that we then aged in a bourbon barrel. After aging\, Paradise Roasters 
 roasted the beans fresh for us to infuse into the beer\, along with a heav
 y dose of Cacao nibs for a rich chocolate coffee flavor. Barrel aging to c
 offee prior to roasting brings in hints of vanilla and wood to complement 
 the coffee and chocolate flavors of the beer.\n\nevent info: https://www.f
 acebook.com/events/2314531372114150/\n
ATTACH;FMTTYPE=image/jpeg:https://www.mnbeer.com/wp-content/uploads/csav_0
 2_sm.jpg
CATEGORIES:Beer Release
LOCATION:Lupulin Brewing Company\, 570 Humboldt Drive\, Suite 107\, Big Lak
 e\, MN\, 55309\, United States
GEO:45.3331421;-93.73350619999997
X-APPLE-STRUCTURED-LOCATION;VALUE=URI;X-ADDRESS=570 Humboldt Drive\, Suite 
 107\, Big Lake\, MN\, 55309\, United States;X-APPLE-RADIUS=100;X-TITLE=Lup
 ulin Brewing Company:geo:45.3331421,-93.73350619999997
END:VEVENT
END:VCALENDAR