BEGIN:VCALENDAR
VERSION:2.0
PRODID:-//wp-events-plugin.com//7.2.3.1//EN
BEGIN:VEVENT
UID:999@mnbeer.com
DTSTART:20141219T010000Z
DTEND:20141219T020000Z
DTSTAMP:20141215T202146Z
URL:https://www.mnbeer.com/events/comedy-night/
SUMMARY:Comedy Night
DESCRIPTION:Join us this Thursday for a comedy showcase at Sisyphus Brewing
 ! Hosted by Corey Adam and featuring Earl Elliot\, Angelo Vescio and Jeff 
 Pfoser. No cover!
LOCATION:Sisyphus Brewing\, 712 Ontario Ave W.\, Minneapolis\, Minnesota\, 
 55403\, United States
GEO:44.973223;-93.288925
X-APPLE-STRUCTURED-LOCATION;VALUE=URI;X-ADDRESS=712 Ontario Ave W.\, Minnea
 polis\, Minnesota\, 55403\, United States;X-APPLE-RADIUS=100;X-TITLE=Sisyp
 hus Brewing:geo:44.973223,-93.288925
END:VEVENT
END:VCALENDAR