BEGIN:VCALENDAR
VERSION:2.0
PRODID:-//wp-events-plugin.com//7.2.3.1//EN
BEGIN:VEVENT
UID:691@mnbeer.com
DTSTART:20140711T050000Z
DTEND:20140712T050000Z
DTSTAMP:20140512T190711Z
URL:https://www.mnbeer.com/events/como-park-days/
SUMMARY:Como Park Days
DESCRIPTION:Celebrate Como Park Days all weekend with Summit beer and food 
 specials at Como Park Grill. Special Cask Ale tapping Friday at noon. http
 ://comoparkgrill.com/
CATEGORIES:Bars/Restaurants
LOCATION:Como Park Grill\, 1341 Pascal St\, Saint Paul\, MN\, United States
GEO:44.9817106;-93.16208039999998
X-APPLE-STRUCTURED-LOCATION;VALUE=URI;X-ADDRESS=1341 Pascal St\, Saint Paul
 \, MN\, United States;X-APPLE-RADIUS=100;X-TITLE=Como Park Grill:geo:44.98
 17106,-93.16208039999998
END:VEVENT
END:VCALENDAR