BEGIN:VCALENDAR
VERSION:2.0
PRODID:-//wp-events-plugin.com//7.2.3.1//EN
BEGIN:VEVENT
UID:3301@mnbeer.com
DTSTART:20181208T213000Z
DTEND:20181208T233000Z
DTSTAMP:20181204T054500Z
URL:https://www.mnbeer.com/events/cookies-and-cocktails-with-santa-at-roya
 l-foundry-craft-spirits-in-minneapolis-2/
SUMMARY:Cookies and Cocktails with Santa at Royal Foundry Craft Spirits in 
 Minneapolis
DESCRIPTION:Royal Foundry Craft Spirits\, a new grain-to-glass distillery i
 n Minneapolis\, is hosting Cookies and Cocktails with Santa on two separat
 e Saturdays this December. The event will take place 4:30-6:30 p.m. on Sat
 urday\, December 8\, and 2-4 p.m. on Saturday\, December 15. Enjoy a famil
 y friendly environment with plenty to keep the kids busy including face-pa
 inting\, balloon art\, cookie decorating\, photos with Santa\, music and m
 ore—plus cocktails for the adults. Tickets are $20 for children and $10 
 for adults. Children 3 years and under are free. Tickets can be purchased 
 at the door and online:  https://www.eventbrite.com/e/cookies-cocktails-wi
 th-santa-vern-tickets-51111380515?janus_fv=exp_eb_86972_related_events%3DA
 \n\nVendors will include:\nFace Painting from A Touch of Magic\, Inc.\nBal
 loon Décor and Twisting form Amazing Scott of Amazing Balloons MN\nPhotos
  with Santa featuring Santa Vern\nEvent Photography from Krivit Photograph
 y\n\nLearn more about Royal Foundry Craft Spirits on Facebook at www.faceb
 ook.com/royalfoundrycraftspirits\n\nRoyal Foundry Craft Spirits is located
  at 241 Fremont Ave N\, Minneapolis\, MN 55405.\n\nPH: 612.356.3330\n
CATEGORIES:Bars/Restaurants,Misc.,Tasting
LOCATION:Royal Foundry Craft Spirits\, 241 Fremont Ave. N.\, Minneapolis\, 
 Minnesota\, 55405\, United States
GEO:44.9796059;-93.29612989999998
X-APPLE-STRUCTURED-LOCATION;VALUE=URI;X-ADDRESS=241 Fremont Ave. N.\, Minne
 apolis\, Minnesota\, 55405\, United States;X-APPLE-RADIUS=100;X-TITLE=Roya
 l Foundry Craft Spirits:geo:44.9796059,-93.29612989999998
END:VEVENT
END:VCALENDAR