BEGIN:VCALENDAR
VERSION:2.0
PRODID:-//wp-events-plugin.com//7.2.3.1//EN
BEGIN:VEVENT
UID:3249@mnbeer.com
DTSTART:20180715T050000Z
DTEND:20180715T230000Z
DTSTAMP:20180709T160819Z
URL:https://www.mnbeer.com/events/cooks-collab-brewery-takeover/
SUMMARY:Cooks Collab Brewery Takeover
DESCRIPTION:This casual block-party style event will be sure to please! Roa
 sted Pork ???? + Craft Beer ???? + Summertime ???? = FUN!! ????\n\nFeaturi
 ng a menu by Chefs Nick Vasquez and Grant Nelson\n\nAlso featuring a speci
 alty "smoked" craft brew created exclusively for this event by Dual Citize
 n Brewing!\n\nNO TICKETS REQUIRED!\nCASH ONLY FOOD PURCHASES!\nATM on site
 \nFull Dual Citizen tap list available\n\nMains:\nRoasted Pork Sandwiches 
 (slaw\, pickles\, BBQ sauce)\nRoasted Pork Tacos (onions\, cilantro)\n\nSi
 des:\nCorn on the Cob "Elote"\nBeans\nColeslaw\nPotato salad\n\nCost:\n$10
  for 1 sandwich or 2 tacos with your choice of 2 sides\nAl-a-carte: $6 for
  1 sandwich or 2 tacos\, individual sides $3 each\n\nDogs:\nDogs are welco
 me for the outdoor event\, but\, unfortunately\, Dual Citizen can’t lega
 lly have them in their taproom. Doggos must also have a human with them at
  all times\n\nKids:\n100%\, bring them.  Dual Citizen will leave the toys
  from 'Tot Time' out during the event.\n\n(Contact &amp\; Follow The Cooks
  Collaborative for more information and to stay updated on events to come:
 \nFacebook The Cooks Collaborative\nInstagram &amp\; Twitter @cookscollab\
 ncookscollab@gmail.com\n#cookscollab\n\nFor more information on our host:\
 nhttp://dualcitizenbrewing.com/\nFacebook Dual Citizen Brewing\nInstagram 
 @dualcitizenbrewing\n\nFollow chef Nick Vasquez on Instagram:\n@nvasquez_c
 ooks\n\nFollow chef Grant Nelson and his startup Graffoodie Food Truck on 
 Instagram:\n@graffoodietruck\n@chef_pony )
ATTACH;FMTTYPE=image/jpeg:https://www.mnbeer.com/wp-content/uploads/352998
 65_551535828577442_999108658333745152_n.jpg
CATEGORIES:Beer Dinner,Breweries,Foodie
LOCATION:Dual Citizen Brewing Co.\, 725 Raymond AVe\, st. Paul\, mn\, 55114
 \, United States
GEO:44.9631668;-93.1978006
X-APPLE-STRUCTURED-LOCATION;VALUE=URI;X-ADDRESS=725 Raymond AVe\, st. Paul\
 , mn\, 55114\, United States;X-APPLE-RADIUS=100;X-TITLE=Dual Citizen Brewi
 ng Co.:geo:44.9631668,-93.1978006
END:VEVENT
END:VCALENDAR