BEGIN:VCALENDAR
VERSION:2.0
PRODID:-//wp-events-plugin.com//7.2.3.1//EN
BEGIN:VEVENT
UID:771@mnbeer.com
DTSTART:20140804T233000Z
DTEND:20140804T233000Z
DTSTAMP:20140730T170214Z
URL:https://www.mnbeer.com/events/coup-dsurly-beer-dinner/
SUMMARY:coup d'Surly Beer Dinner
DESCRIPTION:Join us for a coup d'Surly Beer Dinner!\n\nMonday\, August 4th\
 n\n$100 per seat\, tax and gratuity included.\n\n6:30 Meet 7:30 First Cour
 se\n\nCall (612) 354-3575 to reserve your seat!
ATTACH;FMTTYPE=image/jpeg:https://www.mnbeer.com/wp-content/uploads/coup.j
 pg
CATEGORIES:Beer Dinner,Breweries
LOCATION:Coup d'Etat\, 2923 Girard Avenue South\, Minneapolis\, MN\, United
  States
GEO:44.949147;-93.29662100000002
X-APPLE-STRUCTURED-LOCATION;VALUE=URI;X-ADDRESS=2923 Girard Avenue South\, 
 Minneapolis\, MN\, United States;X-APPLE-RADIUS=100;X-TITLE=Coup d'Etat:ge
 o:44.949147,-93.29662100000002
END:VEVENT
END:VCALENDAR