BEGIN:VCALENDAR
VERSION:2.0
PRODID:-//wp-events-plugin.com//7.2.3.1//EN
BEGIN:VEVENT
UID:1919@mnbeer.com
DTSTART:20160723T203000Z
DTEND:20160723T230000Z
DTSTAMP:20160722T171422Z
URL:https://www.mnbeer.com/events/craft-beer-bash/
SUMMARY:CRAFT BEER BASH
DESCRIPTION:Please join us for this FREE event! We'll be hosting 5 amazing 
 MN brewers - Lift Bridge Brewing\, Fulton Brewing\, Joseph Wolf\, Big Wood
  Brewery &amp\; Tin Whiskers Brewing Co. We'll be wetting our whistles fro
 m 3:30-6 pm! Please stop in and see our newly renovated store (formerly Ci
 resi's). We look forward to seeing you - Cheers!
ATTACH;FMTTYPE=image/jpeg:https://www.mnbeer.com/wp-content/uploads/IMG_12
 65.jpg
CATEGORIES:Tasting
LOCATION:Cotroneo's Wine &amp\; Spirits\, 2148 3rd Street\, White Bear Lake
 \, MN\, 55110\, United States
GEO:45.0841438;-93.0096385
X-APPLE-STRUCTURED-LOCATION;VALUE=URI;X-ADDRESS=2148 3rd Street\, White Bea
 r Lake\, MN\, 55110\, United States;X-APPLE-RADIUS=100;X-TITLE=Cotroneo's 
 Wine & Spirits:geo:45.0841438,-93.0096385
END:VEVENT
END:VCALENDAR