BEGIN:VCALENDAR
VERSION:2.0
PRODID:-//wp-events-plugin.com//7.2.3.1//EN
BEGIN:VEVENT
UID:1078@mnbeer.com
DTSTART:20150322T000000Z
DTEND:20150322T020000Z
DTSTAMP:20150210T221626Z
URL:https://www.mnbeer.com/events/craft-beer-experience/
SUMMARY:Craft Beer Experience
DESCRIPTION:Gourmet craft beer dinner featuring 5 courses from award winnin
 g Chef Kevin Aho.  Each course will be paired with one beer from Bent Padd
 le Brewing Co. and one beer from Castle Danger Brewery.
ATTACH;FMTTYPE=image/jpeg:https://www.mnbeer.com/wp-content/uploads/beerpo
 sterfinalWEB.jpg
CATEGORIES:Beer Dinner
LOCATION:Superior Shores Resort\, 1521 Superior Shores Dr\, Two Harbors\, M
 N\, 55616\, United States
GEO:47.0335615;-91.6398077
X-APPLE-STRUCTURED-LOCATION;VALUE=URI;X-ADDRESS=1521 Superior Shores Dr\, T
 wo Harbors\, MN\, 55616\, United States;X-APPLE-RADIUS=100;X-TITLE=Superio
 r Shores Resort:geo:47.0335615,-91.6398077
END:VEVENT
END:VCALENDAR