BEGIN:VCALENDAR
VERSION:2.0
PRODID:-//wp-events-plugin.com//7.2.3.1//EN
BEGIN:VEVENT
UID:790@mnbeer.com
DTSTART:20140811T233000Z
DTEND:20140812T023000Z
DTSTAMP:20140806T034942Z
URL:https://www.mnbeer.com/events/craft-beer-revolution-with-fulton-brewer
 y-urban-growler-brewing-company-schell-brewing-company/
SUMMARY:Craft Beer Revolution with Fulton Brewery\, Urban Growler Brewing C
 ompany &amp\; Schell Brewing Company
DESCRIPTION:Brooklyn Brewery co-founder Steve Hindy looks back with his fel
 low craft beer comrades including Jace Marti (of Schell Brewing Company)\,
  Ryan Petz (of Fulton Brewing Company)\, Deb Loch (of Urban Growler Brewin
 g Company) and Joseph Alton (of Growler Magazine) to discuss the circumsta
 nces and ambitions that allowed a handful of individuals across the countr
 y to challenge one of the largest corporate dynasties in American history.
  Then they’ll look ahead to the future of good beer and talk about the c
 hallenges and opportunities that lie ahead for American craft beer. More i
 nfo: http://brooklynbrewerymash.com/twin-cities/craft-beer-revolution-with
 -brooklyn-brewery 
ATTACH;FMTTYPE=image/jpeg:https://www.mnbeer.com/wp-content/uploads/Mash-L
 ogo1.png
CATEGORIES:Tasting
LOCATION:Fulton Brewing Company\, 2540 2nd St NE\, Minneapolis\, MN\, Unite
 d States
GEO:45.014532;-93.266883
X-APPLE-STRUCTURED-LOCATION;VALUE=URI;X-ADDRESS=2540 2nd St NE\, Minneapoli
 s\, MN\, United States;X-APPLE-RADIUS=100;X-TITLE=Fulton Brewing Company:g
 eo:45.014532,-93.266883
END:VEVENT
END:VCALENDAR