BEGIN:VCALENDAR
VERSION:2.0
PRODID:-//wp-events-plugin.com//7.2.3.1//EN
BEGIN:VEVENT
UID:679@mnbeer.com
DTSTART:20140515T220000Z
DTEND:20140516T010000Z
DTSTAMP:20140509T164409Z
URL:https://www.mnbeer.com/events/craft-beer-week-brewfest/
SUMMARY:Craft Beer Week Brewfest
DESCRIPTION:FREE in-store Tasting event with TEN (10) representative pourin
 g some of the BEST Craft Beers available in Minnesota!  Sample brews from 
 Mankato Brewing\, Big Wood\, Lagunitas\, Big Bay Brewing (WI)\, Schell's\,
  Tallgrass\, O'Dells &amp\; more. VOTE for the "Best in Show" &amp\; win p
 rizes.  Info will also be available for the Savage Home Brewers Club.  Did
  we mention this event is FREE?? Stop by 5/15 btwn 5-8PM!
ATTACH;FMTTYPE=image/jpeg:https://www.mnbeer.com/wp-content/uploads/Beer-H
 appening.jpg
CATEGORIES:Tasting
LOCATION:Savage City Liquor at Marketplace\, 8200 Egan Drive\, Savage\, MN\
 , 55378\, United States
GEO:44.746376;-93.37982590000001
X-APPLE-STRUCTURED-LOCATION;VALUE=URI;X-ADDRESS=8200 Egan Drive\, Savage\, 
 MN\, 55378\, United States;X-APPLE-RADIUS=100;X-TITLE=Savage City Liquor a
 t Marketplace:geo:44.746376,-93.37982590000001
END:VEVENT
END:VCALENDAR