BEGIN:VCALENDAR
VERSION:2.0
PRODID:-//wp-events-plugin.com//7.2.3.1//EN
BEGIN:VEVENT
UID:3258@mnbeer.com
DTSTART:20180912T231500Z
DTEND:20180913T013000Z
DTSTAMP:20180808T182744Z
URL:https://www.mnbeer.com/events/craft-beer-wine-tasting/
SUMMARY:Craft Beer &amp\; Wine Tasting
DESCRIPTION:Join Wishes &amp\; More on Wednesday\, September 12th from 6-8:
 30pm at Tom Reid’s Pub in St. Paul for our Fall Craft Beer &amp\; Wine T
 asting!\n\nYou’ll enjoy a variety of great craft beer samples and wine t
 asting along with tasty appetizers from Tom Reid’s Hockey City Pub. All 
 guests will also receive a souvenir take-home glass. This is a very social
  affair with plenty of opportunities to mingle and bid on great auction it
 ems. This event is 21+ and all proceeds will benefit Wishes &amp\; More!\n
 \nRegister online ahead of time! Online ticket price is $35 - price will i
 ncrease at the door to $50.
CATEGORIES:Tasting
LOCATION:Tom Reid's Hockey City Pub\, 258 7th Street W.\, St. Paul\, MN\, 5
 5102\, United States
GEO:44.9424713;-93.10477709999998
X-APPLE-STRUCTURED-LOCATION;VALUE=URI;X-ADDRESS=258 7th Street W.\, St. Pau
 l\, MN\, 55102\, United States;X-APPLE-RADIUS=100;X-TITLE=Tom Reid's Hocke
 y City Pub:geo:44.9424713,-93.10477709999998
END:VEVENT
END:VCALENDAR