BEGIN:VCALENDAR
VERSION:2.0
PRODID:-//wp-events-plugin.com//7.2.3.1//EN
BEGIN:VEVENT
UID:1104@mnbeer.com
DTSTART:20150312T210000Z
DTEND:20150313T010000Z
DTSTAMP:20150218T191231Z
URL:https://www.mnbeer.com/events/dark-horse-stout-and-double-crooked-tree
 -event/
SUMMARY:Dark Horse Stout and Double Crooked Tree Event
DESCRIPTION:We will be tapping all 6 of their stout series beers and everyo
 ne's favorite Double Crooked Tree.  Double Crooked Tree is an extremely hi
 gh gravity double IPA that is very anticipated every year.  Some folks fro
 m the brewery in Michigan will be stopping by as as well.  See info on the
  stout series here: http://www.darkhorsebrewery.com/holiday-stout-series-1
 \n
CATEGORIES:Beer Release
LOCATION:The Happy Gnome\, 498 Selby Avenue\, Saint Paul\, Minnesota\, 5510
 4\, United States
GEO:44.946357;-93.12101710000002
X-APPLE-STRUCTURED-LOCATION;VALUE=URI;X-ADDRESS=498 Selby Avenue\, Saint Pa
 ul\, Minnesota\, 55104\, United States;X-APPLE-RADIUS=100;X-TITLE=The Happ
 y Gnome:geo:44.946357,-93.12101710000002
END:VEVENT
END:VCALENDAR