BEGIN:VCALENDAR
VERSION:2.0
PRODID:-//wp-events-plugin.com//7.2.3.1//EN
BEGIN:VEVENT
UID:974@mnbeer.com
DTSTART:20141221T220000Z
DTEND:20141222T040000Z
DTSTAMP:20141211T090657Z
URL:https://www.mnbeer.com/events/darkest-day-of-the-year-uptown-tavern/
SUMMARY:Darkest Day of the Year\, Uptown Tavern
DESCRIPTION:The Darkest Day of the Year\, we will be tapping 30 of the dark
 est rarest beers out there.\nThe list is extensive\, we will have current 
 rare beers and many beers we are pulling from our cellar. We will have mul
 tiple verticals and also be pulling some bottles out from the buffalo trac
 e antique collection.
ATTACH;FMTTYPE=image/jpeg:https://www.mnbeer.com/wp-content/uploads/Darkes
 t-Day-of-the-Year-Uptown-Tavern.jpg
CATEGORIES:Bars/Restaurants
LOCATION:Uptown Tavern and Rooftop\, 1400 Lagoon Ave\, Minneapolis\, MN\, 5
 5408\, United States
GEO:44.949407;-93.297323
X-APPLE-STRUCTURED-LOCATION;VALUE=URI;X-ADDRESS=1400 Lagoon Ave\, Minneapol
 is\, MN\, 55408\, United States;X-APPLE-RADIUS=100;X-TITLE=Uptown Tavern a
 nd Rooftop:geo:44.949407,-93.297323
END:VEVENT
END:VCALENDAR